Workbook
Name Alberta: #REF!
Name Demandes_accès: #REF!
Name Hôpital: #REF!
Name Liste_établissements: _xlfn.ANCHORARRAY(#REF!)
Name Municipalité: #REF!
Name Type: #REF!
Name Universite: #REF!
Name Université: #REF!

Sheet Guide de l'utilisateur
C2: Guide de l'utilisateur Formulaire de remboursement des coûts relatifs aux services de distribution, réparation et remplacement de bacs effectués en régie interne Mise à jour: 10 avril 2025
C10: {="Version : "&T_Version[Version]} -> Version : 2025V1
C12: Table des matières
D13: 1. Introduction
D14: 2. Remboursement des coûts relatifs à la distribution, réparation et remplacement de bacs effectués en régie interne
D15: 3. Étapes pour compléter le formulaire de déclaration
C17: 1. Introduction
D18: Le formulaire a pour objectif d’accompagner le requérant dans l’établissement du montant à recevoir de Éco Entreprises Québec (ÉEQ) « Remboursement », ou du montant dû à ÉEQ « (Versement) » pour les services de distribution, réparation et remplacement de bacs effectués en régie interne. Le schéma suivant illustre sommairement la démarche.
D30: Ce guide accompagne les organismes signataires (OS) d'une entente de partenariat avec ÉEQ dans la saisie du formulaire de déclaration relative aux services de distribution, réparation et remplacement (DRR) des bacs effectués en régie interne. Il précise la manière de remplir le formulaire et présente les dépenses admissibles et non admissibles au remboursement par ÉEQ.
D34: Les informations demandées dans le formulaire portent notamment sur :
E35: - | F35: L’identité de l’OS responsable de la demande de remboursement;
E36: - | F36: Les quantités de bacs distribués, réparés et remplacés pour les clientèles admissibles;
E37: - | F37: Les quantités de bacs distribués, réparés, remplacés, ainsi que les pièces remplacées pour les clientèles non admissibles.
C39: 2. Remboursement des dépenses relatives à la distribution, réparation et remplacement de bacs effectués en régie interne
D42: 2.1. Conditions générales
E43: Le remboursement est versé uniquement aux OS qui effectuent les activités de DRR en régie interne.
E45: Un formulaire devrait être complété pour chacun des organismes municipaux réalisant le service de DRR en régie interne dans le cas où: - L'organisme signataire et des organismes municipaux du territoire d'application offrent ces services; - Uniquement des organismes municipaux du territoire d'application offrent ces services; L'OS de l'entente est responsable de déclarer l'ensemble de ces coûts sur la Plateforme de gestion contractuelle, et c’est à lui que ÉEQ versera le remboursement.
D52: 2.2. Année de référence
E53: Pour chaque trimestre, l’OS doit déclarer :
E54: - Le nombre réel de bacs distribués, réparés ou remplacés en régie interne;
E55: - Le nombre réel de pièces remplacées en régie interne;
E56: - Le type de service concerné;
E57: - Le format des bacs visés;
E58: - Les clientèles ayant reçu ces services.
E60: Ces informations doivent être conformes aux indications du formulaire.
D62: 2.3. Dépenses admissibles et non admissibles
E63: Les dépenses admissibles sont celles de distribution, réparation et remplacement des bacs roulants pour les clientèles admissibles. Les dépenses non admissibles sont celles de remplacement ou de réparation de bacs pour les clientèles non admissibles. Pour les clientèles non admissibles, l'OS doit déclarer les quantités afférentes dans le formulaire. Les prix unitaires sont ceux prévus à la grille tarifaire élaborée par ÉEQ sur la base des prix prévus aux contrats conclus par ÉEQ avec les fournisseurs de services dans votre région.
C65: 3. Étapes pour remplir le formulaire de déclaration
D66: Étape 1 : Information générale
E67: - | F67: Veuillez prendre connaissance du présent guide afin de remplir le formulaire de déclaration de façon adéquate.
F68: Charte de couleurs
F69: - Les cellules à compléter (saisies manuelles) sont indiquées en vert.
F70: - Les cellules calculées automatiquement apparaissent en gris.
F71: - Les cellules en jaune doivent être lues avec une attention particulière.
F72: ? Cliquer sur la cellule pour obtenir des informations supplémentaires.
F74: Cette charte de couleurs s'applique aux onglets «1. Identité du requérant » et « 2. Demande de remboursement »
D76: Étape 2 : Remplir l'onglet : | P76: « 1. Identité du requérant »
E77: - Complétez les champs suivants:
F78: - Code de l'entente
F79: - Nom de l’organisme signataire de l’entente
...

Sheet 1. Identité du requérant
C2: 1. Renseignements sur la déclaration
C8: {="Version : "&T_Version[Version]} -> Version : 2025V1
C10: Veuillez saisir les renseignements relatifs à l'organisation requérante ainsi qu'au trimestre de la déclaration.
C12: Charte de couleurs
C13: - Les cellules à compléter (saisies manuelles) sont indiquées en vert.
C14: - Les cellules calculées automatiquement apparaissent en gris.
C15: - Les cellules en jaune doivent être lues avec une attention particulière.
C16: ? Cliquer sur la cellule pour obtenir des informations supplémentaires.
D18: 1.1 Organisme signataire
D19: Code de l'entente | AB19: Nom de l'organisme signataire
D24: Si l'OS effectue la déclaration pour plusieurs organismes municipaux, il faut compléter un formulaire par organisme municipal. Si cette situation ne vous concerne pas, vous pouvez ignorer la section 1.2.
D26: 1.2 Municipalité
D27: Nom de la municipalité | AD27: Code géographique
D32: 1.3 Exercice financier et trimestre de la déclaration
D33: Année pour laquelle un remboursement est demandé | AC33: Trimestre pour lequel un remboursement est demandé
AJ35: =_xlfn.XLOOKUP(AD35,Liste!A9:A12,Liste!B9:B12,"",0,1)
E67: Libre-service non admissible

Sheet 2. Demande de remboursement
C2: 2. Déclaration des services de distribution, réparation et remplacement des bacs et pièces effectués en régie interne
C8: {="Version : "&T_Version[Version]} -> Version : 2025V1
C10: Veuillez prendre connaissance des conditions d'admissibilité des dépenses dans l'onglet guide de l'utilisateur avant de remplir la présente section. Il demeure de l'entière responsabilité de l'OS de ne déclarer que les dépenses admissibles à un remboursement par ÉEQ.
C13: Charte de couleurs
C14: - Les cellules à compléter (saisies manuelles) sont indiquées en vert.
C15: - Les cellules calculées automatiquement apparaissent en gris.
C16: - Les cellules en jaune doivent être lues avec une attention particulière.
C17: ? Cliquer sur la cellule pour obtenir des informations supplémentaires.
C19: 2.1 Remboursement relatif à la distribution, la réparation et le remplacement des bacs en régie interne pour les clientèles admissibles
D21: Services réalisés en régie interne
E22: ="Veuillez indiquer les quantités de bacs pour les services ci-dessous pour le trimestre "&'1. Identité du requérant'!AD35&" de l'année "&'1. Identité du requérant'!E35&" :" -> Veuillez indiquer les quantités de bacs pour les services ci-dessous pour le trimestre de l'année :
S24: Clientèles admissibles
E25: Services | K25: Formats | S25: Bâtiments résidentiels de moins de 9 logements | Y25: Bâtiments résidentiels de 9 à 19 logements | AE25: ICI assimilables | AK25: Établissements d'enseignement | AR25: Quantité totale | AW25: Coût unitaire sans taxes | BC25: Total sans taxes
E29: Distribution de bacs | K29: 240L et 360L | AR29: =SUM(S29:AQ29) -> 0 | AW29: {=_xlfn.XLOOKUP($E$29&K29&"Oui",Cout_Bacs_Pieces[Services]&Cout_Bacs_Pieces[Formats]&Cout_Bacs_Pieces[Admissible],Cout_Bacs_Pieces[Coût unitaire],0,0,1)} -> 25.3 | BC29: =AR29*AW29 -> 0
K30: Autres formats | AR30: =SUM(S30:AQ30) -> 0 | AW30: {=_xlfn.XLOOKUP($E$29&K30&"Oui",Cout_Bacs_Pieces[Services]&Cout_Bacs_Pieces[Formats]&Cout_Bacs_Pieces[Admissible],Cout_Bacs_Pieces[Coût unitaire],0,0,1)} -> 25.3 | BC30: =AR30*AW30 -> 0
E31: Remplacement | K31: 240L et 360L | AR31: =SUM(S31:AQ31) -> 0 | AW31: {=_xlfn.XLOOKUP($E$31&K31&"Oui",Liste!$K$9:$K$60&Liste!$L$9:$L$60&Liste!$N$9:$N$60,Liste!$O$9:$O$60,0,0,1)} -> 27.2 | BC31: =AR31*AW31 -> 0
E32: (Livraison d’un nouveau bac et récupération de l’ancien) | K32: Autres formats | AR32: =SUM(S32:AQ32) -> 0 | AW32: {=_xlfn.XLOOKUP($E$31&K32&"Oui",Liste!$K$9:$K$60&Liste!$L$9:$L$60&Liste!$N$9:$N$60,Liste!$O$9:$O$60,0,0,1)} -> 27.2 | BC32: =AR32*AW32 -> 0
D33: ? | E33: Réparation | K33: 240L et 360L | AR33: =SUM(S33:AQ33) -> 0 | AW33: {=_xlfn.XLOOKUP($E$33&K33&"Oui",Liste!$K$9:$K$60&Liste!$L$9:$L$60&Liste!$N$9:$N$60,Liste!$O$9:$O$60,0,0,1)} -> 25.3 | BC33: =AR33*AW33 -> 0
K34: Autres formats | AR34: =SUM(S34:AQ34) -> 0 | AW34: {=_xlfn.XLOOKUP($E$33&K34&"Oui",Liste!$K$9:$K$60&Liste!$L$9:$L$60&Liste!$N$9:$N$60,Liste!$O$9:$O$60,0,0,1)} -> 25.3 | BC34: =AR34*AW34 -> 0
BB36: Total | BC36: =SUM(BC29:BJ34) -> 0
BC37: (A)
D38: Libre-service | J38: ?
E39: Si cela s'applique à votre situation:
E40: ="veuillez indiquer les quantités de bacs et pièces qui ont été distribués en libre-service aux clientèles admissibles pour le trimestre "&'1. Identité du requérant'!AD35&" de l'année "&'1. Identité du requérant'!E35&" dans le tableau ci-dessous :" -> veuillez indiquer les quantités de bacs et pièces qui ont été distribués en libre-service aux clientèles admissibles pour le trimestre de l'année dans le tableau ci-dessous :
S44: Clientèles admissibles
D45: Types | H45: Formats | O45: Pièces | S45: Bâtiments résidentiels de moins de 9 logements | Y45: Bâtiments résidentiels de 9 à 19 logements | AE45: ICI assimilables | AK45: Établissements d'enseignement | AR45: Quantité totale | AW45: Coût unitaire sans taxes | BC45: Total sans taxes
D49: Bacs | H49: 240L et 360L | AR49: =SUM(S49:AQ49) -> 0 | AW49: {=_xlfn.XLOOKUP($D$49&$H$49&O49&"Oui",Liste!$K$9:$K$60&Liste!$L$9:$L$60&Liste!$M$9:$M$60&Liste!$N$9:$N$60,Liste!$O$9:$O$60,0,0,1)} -> 5.1 | BC49: =AR49*AW49 -> 0
H50: Autres formats | AR50: =SUM(S50:AQ50) -> 0 | AW50: {=_xlfn.XLOOKUP($D$49&$H$50&O50&"Oui",Liste!$K$9:$K$60&Liste!$L$9:$L$60&Liste!$M$9:$M$60&Liste!$N$9:$N$60,Liste!$O$9:$O$60,0,0,1)} -> 5.1 | BC50: =AR50*AW50 -> 0
BB52: Total | BC52: =SUM(BC49:BJ50) -> 0
BC53: (B)
C56: 2.2 Déduction pour les bacs et les pièces pour les clientèles non admissibles et les bris relatifs à une pratique fautive
D57: Clientèles non admissibles et bris relatifs à une pratique fautive
E58: ="Veuillez indiquer les quantités de bacs et de pièces pour les services ci-dessous pour le trimestre "&'1. Identité du requérant'!AD35&" de l'année "&'1. Identité du requérant'!E35&" :" -> Veuillez indiquer les quantités de bacs et de pièces pour les services ci-dessous pour le trimestre de l'année :
W60: Clientèles non admissibles | AJ60: Bris relatifs | AQ60: ?
E61: Services | K61: Formats | S61: Pièces | W61: Bâtiments résidentiels de plus de 19 logements | AD61: ICI non assimilables | AJ61: à une pratique fautive | AR61: Quantité totale | AW61: Coût unitaire sans taxes | BC61: Coût total sans taxes
E65: Distribution de bacs | K65: 360L | AR65: =SUM(W65:AQ65) -> 0 | AW65: {=_xlfn.XLOOKUP($E$65&K65&S65&"Non",Liste!$K$9:$K$60&Liste!$L$9:$L$60&Liste!$M$9:$M$60&Liste!$N$9:$N$60,Liste!$O$9:$O$60,0,0,1)} -> 82.9 | BC65: =AR65*AW65 -> 0
K66: 240L | AR66: =SUM(W66:AQ66) -> 0 | AW66: {=_xlfn.XLOOKUP($E$65&K66&S66&"Non",Liste!$K$9:$K$60&Liste!$L$9:$L$60&Liste!$M$9:$M$60&Liste!$N$9:$N$60,Liste!$O$9:$O$60,0,0,1)} -> 82.9 | BC66: =AR66*AW66 -> 0
R67: ? | AR67: =SUM(W67:AQ67) -> 0 | BC67: =AR67*AW67 -> 0
R68: ? | AR68: =SUM(W68:AQ68) -> 0 | BC68: =AR68*AW68 -> 0
R69: ? | AR69: =SUM(W69:AQ69) -> 0 | BC69: =AR69*AW69 -> 0
...

Sheet Liste
A1: ÉEQ
A7: Liste des trimestres | D7: Version | F7: Organisme | I7: Cocher | K7: Coût des bacs et pièces
A8: Trimestre | B8: Période | D8: Version | F8: Nom_Organisme | G8: Code_Entente | I8: Cocher | K8: Services | L8: Formats | M8: Pièces | N8: Admissible | O8: Coût unitaire
A9: 1 | B9: 1er janvier au 31 mars | D9: 2025V1 | F9: Abercorn | G9: EEQOM-46005-F1 | I9: X | K9: Distribution de bacs | L9: 240L et 360L | N9: Oui | O9: 25.3
A10: 2 | B10: 1er avril au 30 juin | F10: Administration régionale Kativik (ARK) | G10: EEQOM-NR992-163 | K10: Distribution de bacs | L10: Autres formats | N10: Oui | O10: 25.3
A11: 3 | B11: 1er juillet au 30 septembre | F11: Agglomération de La Tuque | G11: EEQOM-AG900-57 | K11: Réparation | L11: 240L et 360L | N11: Oui | O11: 25.3
A12: 4 | B12: 1er octobre au 31 décembre | F12: Agglomération de La Tuque | G12: EEQOM-AG900-F1 | K12: Réparation | L12: Autres formats | N12: Oui | O12: 25.3
F13: Akwesasne | G13: EEQOM-69802-174 | K13: Remplacement | L13: 240L et 360L | N13: Oui | O13: 27.2
F14: Alleyn-et-Cawood | G14: EEQOM-84050-F1 | K14: Remplacement | L14: Autres formats | N14: Oui | O14: 27.2
F15: Aumond | G15: EEQOM-83090-425 | K15: Bacs | L15: 240L et 360L | N15: Oui | O15: 5.1
F16: Baie-des-Sables | G16: EEQOM-08080-F1 | K16: Bacs | L16: Autres formats | N16: Oui | O16: 5.1
F17: Bedford | G17: EEQOM-46035-F1 | K17: Pièces | L17: 240L et 360L | M17: Couvercle | N17: Oui | O17: 0
F18: Blue Sea | G18: EEQOM-83045-426 | K18: Pièces | L18: 240L et 360L | M18: Tige | N18: Oui | O18: 0
F19: Bolton-Ouest | G19: EEQOM-46065-F1 | K19: Pièces | L19: 240L et 360L | M19: Roues | N19: Oui | O19: 0
F20: Bouchette | G20: EEQOM-83050-F1 | K20: Pièces | L20: 240L et 360L | M20: Essieux | N20: Oui | O20: 0
F21: Brigham | G21: EEQOM-46090-F1 | K21: Distribution de bacs | L21: 240L | N21: Non | O21: 82.9
F22: Bristol | G22: EEQOM-84005-F1 | K22: Distribution de bacs | L22: 360L | N22: Non | O22: 82.9
F23: Brome | G23: EEQOM-46070-F1 | K23: Distribution de bacs | L23: 67L | N23: Non | O23: 82.9
F24: Bromont | G24: EEQOM-46078-F1 | K24: Distribution de bacs | L24: Autres formats | N24: Non | O24: 82.9
F25: Canton de Bedford | G25: EEQOM-46040-F1 | K25: Réparation | L25: 240L | M25: Couvercle | N25: Non | O25: 19.95
F26: Canton de Hatley | G26: EEQOM-45055-F1 | K26: Réparation | L26: 240L | M26: Tige | N26: Non | O26: 2.7
F27: Chelsea | G27: EEQOM-82025-F1 | K27: Réparation | L27: 240L | M27: Roues | N27: Non | O27: 5.9
F28: Chichester | G28: EEQOM-84090-F1 | K28: Réparation | L28: 240L | M28: Essieux | N28: Non | O28: 5.4
F29: Communauté maritime des Îles-de-la-Madeleine | G29: EEQOM-AG010-77 | K29: Réparation | L29: 360L | M29: Couvercle | N29: Non | O29: 19.95
F30: Communauté maritime des Îles-de-la-Madeleine | G30: EEQOM-AG010-F1 | K30: Réparation | L30: 360L | M30: Tige | N30: Non | O30: 2.7
F31: Cookshire-Eaton | G31: EEQOM-41038-422 | K31: Réparation | L31: 360L | M31: Roues | N31: Non | O31: 5.9
F32: Courcelles-Saint-Évariste | G32: EEQOM-29027-417 | K32: Réparation | L32: 360L | M32: Essieux | N32: Non | O32: 5.4
F33: Cowansville | G33: EEQOM-46080-F1 | K33: Réparation | L33: 67L | M33: Couvercle | N33: Non | O33: 19.95
F34: Danville | G34: EEQOM-{40047}-F1 | K34: Réparation | L34: 67L | M34: Tige | N34: Non | O34: 2.7
F35: Déléage | G35: EEQOM-83070-424 | K35: Réparation | L35: 67L | M35: Roues | N35: Non | O35: 5.9
F36: Dunham | G36: EEQOM-46050-F1 | K36: Réparation | L36: 67L | M36: Essieux | N36: Non | O36: 5.4
... F40: Elgin | G40: EEQOM-68050-F1 | K40: Réparation | L40: Autres formats | M40: Essieux | N40: Non | O40: 5.4
F41: Énercycle | G41: EEQOM-R1223-108 | K41: Remplacement | L41: 240L | N41: Non | O41: 82.9
F42: Énercycle | G42: EEQOM-R1223-F1 | K42: Remplacement | L42: 360L | N42: Non | O42: 82.9
F43: Farnham | G43: EEQOM-46112-F1 | K43: Remplacement | L43: 67L | N43: Non | O43: 82.9
F44: Frelighsburg | G44: EEQOM-46010-F1 | K44: Remplacement | L44: Autres formats | N44: Non | O44: 82.9
F45: Gesgapegiag | G45: EEQOM-06802-165 | K45: Bacs | L45: 240L | N45: Non | O45: 82.9
F46: Gouvernement de la Nation Crie | G46: EEQOM-TEMP-104 | K46: Bacs | L46: 360L | N46: Non | O46: 82.9
F47: Gouvernement régional d'Eeyou-Istchee Baie James | G47: EEQOM-99060-6 | K47: Bacs | L47: 67L | N47: Non | O47: 82.9
F48: Grand-Remous | G48: EEQOM-83095-F1 | K48: Bacs | L48: Autres formats | N48: Non | O48: 82.9
...

Sheet Table
A1: Éco Entreprises Québec
A2: Tableau pour analyse des données
A4: Identité du requequérant (T_Déclaration_BRI_Hdr)
A5: Nom_OS | B5: Code_Entente | C5: Nom_OM | D5: Code_OM | E5: Annee | F5: Trim | G5: Version | H5: Q_Key | I5: Commentaire
A6: ='1. Identité du requérant'!AC21 -> 0 | B6: ='1. Identité du requérant'!E21 -> 0 | C6: ='1. Identité du requérant'!E29 -> 0 | D6: ='1. Identité du requérant'!AE29 -> 0 | E6: ='1. Identité du requérant'!E35 -> 0 | F6: ='1. Identité du requérant'!AD35 -> 0 | G6: {=T_Version[Version]} -> 2025V1 | H6: =E6&"-"&F6&"|"&B6&"|"&D6&"|BRI" -> 0-0|0|0|BRI | I6: ='2. Demande de remboursement'!D170 -> 0
A8: Demande de remboursement (T_Déclaration_BRI_Dtl)
A9: Q_Key | B9: Reclamation | C9: Clientele | D9: Services | E9: Formats | F9: Pièces | G9: Qty | H9: Cout_unitaire | I9: Cout_Total
A10: {=T_Déclaration_BRI_Hdr[Q_Key]} -> 0-0|0|0|BRI | B10: Conventionnelle | C10: Bâtiments résidentiels de moins de 9 logements | D10: Distribution de bacs | E10: 240L et 360L | G10: ='2. Demande de remboursement'!S29 -> 0 | H10: ='2. Demande de remboursement'!AW29 -> 25.3 | I10: =Table6[[#This Row],[Qty]]*Table6[[#This Row],[Cout_unitaire]] -> 0
A11: {=T_Déclaration_BRI_Hdr[Q_Key]} -> 0-0|0|0|BRI | B11: Conventionnelle | C11: Bâtiments résidentiels de moins de 9 logements | D11: Distribution de bacs | E11: Autres formats | G11: ='2. Demande de remboursement'!S30 -> 0 | H11: ='2. Demande de remboursement'!AW30 -> 25.3 | I11: =Table6[[#This Row],[Qty]]*Table6[[#This Row],[Cout_unitaire]] -> 0
A12: {=T_Déclaration_BRI_Hdr[Q_Key]} -> 0-0|0|0|BRI | B12: Conventionnelle | C12: Bâtiments résidentiels de moins de 9 logements | D12: Remplacement | E12: 240L et 360L | G12: ='2. Demande de remboursement'!S31 -> 0 | H12: ='2. Demande de remboursement'!AW31 -> 27.2 | I12: =Table6[[#This Row],[Qty]]*Table6[[#This Row],[Cout_unitaire]] -> 0
A13: {=T_Déclaration_BRI_Hdr[Q_Key]} -> 0-0|0|0|BRI | B13: Conventionnelle | C13: Bâtiments résidentiels de moins de 9 logements | D13: Remplacement | E13: Autres formats | G13: ='2. Demande de remboursement'!S32 -> 0 | H13: ='2. Demande de remboursement'!AW32 -> 27.2 | I13: =Table6[[#This Row],[Qty]]*Table6[[#This Row],[Cout_unitaire]] -> 0
A14: {=T_Déclaration_BRI_Hdr[Q_Key]} -> 0-0|0|0|BRI | B14: Conventionnelle | C14: Bâtiments résidentiels de moins de 9 logements | D14: Réparation | E14: 240L et 360L | G14: ='2. Demande de remboursement'!S33 -> 0 | H14: ='2. Demande de remboursement'!AW33 -> 25.3 | I14: =Table6[[#This Row],[Qty]]*Table6[[#This Row],[Cout_unitaire]] -> 0
A15: {=T_Déclaration_BRI_Hdr[Q_Key]} -> 0-0|0|0|BRI | B15: Conventionnelle | C15: Bâtiments résidentiels de moins de 9 logements | D15: Réparation | E15: Autres formats | G15: ='2. Demande de remboursement'!S34 -> 0 | H15: ='2. Demande de remboursement'!AW34 -> 25.3 | I15: =Table6[[#This Row],[Qty]]*Table6[[#This Row],[Cout_unitaire]] -> 0
A16: {=T_Déclaration_BRI_Hdr[Q_Key]} -> 0-0|0|0|BRI | B16: Conventionnelle | C16: Bâtiment 9 à 19 logements | D16: Distribution de bacs | E16: =E10 -> 240L et 360L | G16: ='2. Demande de remboursement'!Y29 -> 0 | H16: =H10 -> 25.3 | I16: =Table6[[#This Row],[Qty]]*Table6[[#This Row],[Cout_unitaire]] -> 0
A17: {=T_Déclaration_BRI_Hdr[Q_Key]} -> 0-0|0|0|BRI | B17: Conventionnelle | C17: Bâtiment 9 à 19 logements | D17: Distribution de bacs | E17: =E11 -> Autres formats | G17: ='2. Demande de remboursement'!Y30 -> 0 | H17: =H11 -> 25.3 | I17: =Table6[[#This Row],[Qty]]*Table6[[#This Row],[Cout_unitaire]] -> 0
A18: {=T_Déclaration_BRI_Hdr[Q_Key]} -> 0-0|0|0|BRI | B18: Conventionnelle | C18: Bâtiment 9 à 19 logements | D18: Remplacement | E18: =E12 -> 240L et 360L | G18: ='2. Demande de remboursement'!Y31 -> 0 | H18: =H12 -> 27.2 | I18: =Table6[[#This Row],[Qty]]*Table6[[#This Row],[Cout_unitaire]] -> 0
A19: {=T_Déclaration_BRI_Hdr[Q_Key]} -> 0-0|0|0|BRI | B19: Conventionnelle | C19: Bâtiment 9 à 19 logements | D19: Remplacement | E19: =E13 -> Autres formats | G19: ='2. Demande de remboursement'!Y32 -> 0 | H19: =H13 -> 27.2 | I19: =Table6[[#This Row],[Qty]]*Table6[[#This Row],[Cout_unitaire]] -> 0
A20: {=T_Déclaration_BRI_Hdr[Q_Key]} -> 0-0|0|0|BRI | B20: Conventionnelle | C20: Bâtiment 9 à 19 logements | D20: Réparation | E20: =E14 -> 240L et 360L | G20: ='2. Demande de remboursement'!Y33 -> 0 | H20: =H14 -> 25.3 | I20: =Table6[[#This Row],[Qty]]*Table6[[#This Row],[Cout_unitaire]] -> 0
A21: {=T_Déclaration_BRI_Hdr[Q_Key]} -> 0-0|0|0|BRI | B21: Conventionnelle | C21: Bâtiment 9 à 19 logements | D21: Réparation | E21: =E15 -> Autres formats | G21: ='2. Demande de remboursement'!Y34 -> 0 | H21: =H15 -> 25.3 | I21: =Table6[[#This Row],[Qty]]*Table6[[#This Row],[Cout_unitaire]] -> 0
A22: {=T_Déclaration_BRI_Hdr[Q_Key]} -> 0-0|0|0|BRI | B22: Conventionnelle | C22: ICI assimilable | D22: Distribution de bacs | E22: =E16 -> 240L et 360L | G22: ='2. Demande de remboursement'!AE29 -> 0 | H22: =H16 -> 25.3 | I22: =Table6[[#This Row],[Qty]]*Table6[[#This Row],[Cout_unitaire]] -> 0
A23: {=T_Déclaration_BRI_Hdr[Q_Key]} -> 0-0|0|0|BRI | B23: Conventionnelle | C23: ICI assimilable | D23: Distribution de bacs | E23: =E17 -> Autres formats | G23: ='2. Demande de remboursement'!AE30 -> 0 | H23: =H17 -> 25.3 | I23: =Table6[[#This Row],[Qty]]*Table6[[#This Row],[Cout_unitaire]] -> 0
A24: {=T_Déclaration_BRI_Hdr[Q_Key]} -> 0-0|0|0|BRI | B24: Conventionnelle | C24: ICI assimilable | D24: Remplacement | E24: =E18 -> 240L et 360L | G24: ='2. Demande de remboursement'!AE31 -> 0 | H24: =H18 -> 27.2 | I24: =Table6[[#This Row],[Qty]]*Table6[[#This Row],[Cout_unitaire]] -> 0
A25: {=T_Déclaration_BRI_Hdr[Q_Key]} -> 0-0|0|0|BRI | B25: Conventionnelle | C25: ICI assimilable | D25: Remplacement | E25: =E19 -> Autres formats | G25: ='2. Demande de remboursement'!AE32 -> 0 | H25: =H19 -> 27.2 | I25: =Table6[[#This Row],[Qty]]*Table6[[#This Row],[Cout_unitaire]] -> 0
A26: {=T_Déclaration_BRI_Hdr[Q_Key]} -> 0-0|0|0|BRI | B26: Conventionnelle | C26: ICI assimilable | D26: Réparation | E26: =E20 -> 240L et 360L | G26: ='2. Demande de remboursement'!AE33 -> 0 | H26: =H20 -> 25.3 | I26: =Table6[[#This Row],[Qty]]*Table6[[#This Row],[Cout_unitaire]] -> 0
A27: {=T_Déclaration_BRI_Hdr[Q_Key]} -> 0-0|0|0|BRI | B27: Conventionnelle | C27: ICI assimilable | D27: Réparation | E27: =E21 -> Autres formats | G27: ='2. Demande de remboursement'!AE34 -> 0 | H27: =H21 -> 25.3 | I27: =Table6[[#This Row],[Qty]]*Table6[[#This Row],[Cout_unitaire]] -> 0
A28: {=T_Déclaration_BRI_Hdr[Q_Key]} -> 0-0|0|0|BRI | B28: Conventionnelle | C28: Établissements scolaires sauf universités | D28: Distribution de bacs | E28: =E22 -> 240L et 360L | G28: ='2. Demande de remboursement'!AK29 -> 0 | H28: =H22 -> 25.3 | I28: =Table6[[#This Row],[Qty]]*Table6[[#This Row],[Cout_unitaire]] -> 0
A29: {=T_Déclaration_BRI_Hdr[Q_Key]} -> 0-0|0|0|BRI | B29: Conventionnelle | C29: Établissements scolaires sauf universités | D29: Distribution de bacs | E29: =E23 -> Autres formats | G29: ='2. Demande de remboursement'!AK30 -> 0 | H29: =H23 -> 25.3 | I29: =Table6[[#This Row],[Qty]]*Table6[[#This Row],[Cout_unitaire]] -> 0
A30: {=T_Déclaration_BRI_Hdr[Q_Key]} -> 0-0|0|0|BRI | B30: Conventionnelle | C30: Établissements scolaires sauf universités | D30: Remplacement | E30: =E24 -> 240L et 360L | G30: ='2. Demande de remboursement'!AK31 -> 0 | H30: =H24 -> 27.2 | I30: =Table6[[#This Row],[Qty]]*Table6[[#This Row],[Cout_unitaire]] -> 0
A31: {=T_Déclaration_BRI_Hdr[Q_Key]} -> 0-0|0|0|BRI | B31: Conventionnelle | C31: Établissements scolaires sauf universités | D31: Remplacement | E31: =E25 -> Autres formats | G31: ='2. Demande de remboursement'!AK32 -> 0 | H31: =H25 -> 27.2 | I31: =Table6[[#This Row],[Qty]]*Table6[[#This Row],[Cout_unitaire]] -> 0
A32: {=T_Déclaration_BRI_Hdr[Q_Key]} -> 0-0|0|0|BRI | B32: Conventionnelle | C32: Établissements scolaires sauf universités | D32: Réparation | E32: =E26 -> 240L et 360L | G32: ='2. Demande de remboursement'!AK33 -> 0 | H32: =H26 -> 25.3 | I32: =Table6[[#This Row],[Qty]]*Table6[[#This Row],[Cout_unitaire]] -> 0
A33: {=T_Déclaration_BRI_Hdr[Q_Key]} -> 0-0|0|0|BRI | B33: Conventionnelle | C33: Établissements scolaires sauf universités | D33: Réparation | E33: =E27 -> Autres formats | G33: ='2. Demande de remboursement'!AK34 -> 0 | H33: =H27 -> 25.3 | I33: =Table6[[#This Row],[Qty]]*Table6[[#This Row],[Cout_unitaire]] -> 0
A34: {=T_Déclaration_BRI_Hdr[Q_Key]} -> 0-0|0|0|BRI | B34: Libre-service | C34: Bâtiments résidentiels de moins de 9 logements | D34: Bacs | E34: 240L et 360L | G34: ='2. Demande de remboursement'!S49 -> 0 | H34: ='2. Demande de remboursement'!AW49 -> 5.1 | I34: =Table6[[#This Row],[Qty]]*Table6[[#This Row],[Cout_unitaire]] -> 0
A35: {=T_Déclaration_BRI_Hdr[Q_Key]} -> 0-0|0|0|BRI | B35: Libre-service | C35: Bâtiments résidentiels de moins de 9 logements | D35: Bacs | E35: Autres formats | G35: ='2. Demande de remboursement'!S50 -> 0 | H35: ='2. Demande de remboursement'!AW50 -> 5.1 | I35: =Table6[[#This Row],[Qty]]*Table6[[#This Row],[Cout_unitaire]] -> 0
A36: {=T_Déclaration_BRI_Hdr[Q_Key]} -> 0-0|0|0|BRI | B36: Libre-service | C36: Bâtiment 9 à 19 logements | D36: Bacs | E36: =E34 -> 240L et 360L | G36: ='2. Demande de remboursement'!Y49 -> 0 | H36: =H34 -> 5.1 | I36: =Table6[[#This Row],[Qty]]*Table6[[#This Row],[Cout_unitaire]] -> 0
A37: {=T_Déclaration_BRI_Hdr[Q_Key]} -> 0-0|0|0|BRI | B37: Libre-service | C37: Bâtiment 9 à 19 logements | D37: Bacs | E37: =E35 -> Autres formats | G37: ='2. Demande de remboursement'!Y50 -> 0 | H37: =H35 -> 5.1 | I37: =Table6[[#This Row],[Qty]]*Table6[[#This Row],[Cout_unitaire]] -> 0
A38: {=T_Déclaration_BRI_Hdr[Q_Key]} -> 0-0|0|0|BRI | B38: Libre-service | C38: ICI assimilable | D38: Bacs | E38: =E36 -> 240L et 360L | G38: ='2. Demande de remboursement'!AE49 -> 0 | H38: =H36 -> 5.1 | I38: =Table6[[#This Row],[Qty]]*Table6[[#This Row],[Cout_unitaire]] -> 0
A39: {=T_Déclaration_BRI_Hdr[Q_Key]} -> 0-0|0|0|BRI | B39: Libre-service | C39: ICI assimilable | D39: Bacs | E39: =E37 -> Autres formats | G39: ='2. Demande de remboursement'!AE50 -> 0 | H39: =H37 -> 5.1 | I39: =Table6[[#This Row],[Qty]]*Table6[[#This Row],[Cout_unitaire]] -> 0
A40: {=T_Déclaration_BRI_Hdr[Q_Key]} -> 0-0|0|0|BRI | B40: Libre-service | C40: Établissements scolaires sauf universités | D40: Bacs | E40: =E38 -> 240L et 360L | G40: ='2. Demande de remboursement'!AK49 -> 0 | H40: =H38 -> 5.1 | I40: =Table6[[#This Row],[Qty]]*Table6[[#This Row],[Cout_unitaire]] -> 0
A41: {=T_Déclaration_BRI_Hdr[Q_Key]} -> 0-0|0|0|BRI | B41: Libre-service | C41: Établissements scolaires sauf universités | D41: Bacs | E41: =E39 -> Autres formats | G41: ='2. Demande de remboursement'!AK50 -> 0 | H41: =H39 -> 5.1 | I41: =Table6[[#This Row],[Qty]]*Table6[[#This Row],[Cout_unitaire]] -> 0
A42: {=T_Déclaration_BRI_Hdr[Q_Key]} -> 0-0|0|0|BRI | B42: Clientèle non admissible et bris collecteur | C42: Bâtiment 20 logements et plus | D42: Distribution de bacs | E42: 360L | G42: ='2. Demande de remboursement'!W65 -> 0 | H42: ='2. Demande de remboursement'!AW65 -> 82.9 | I42: =Table6[[#This Row],[Qty]]*Table6[[#This Row],[Cout_unitaire]] -> 0
...
