Workbook
Name Alberta: #REF!
Name Concordances_34_Etablissements: #REF!
Name Concordances_CLSC: #REF!
Name Concordances_MCT: #REF!
Name Concordances_Region: #REF!
Name Concordances_RTS: #REF!
Name Demandes_accès: [1]Data!$E$2:$E$6
Name Hôpital: #REF!
Name Liste_établissements: _xlfn.ANCHORARRAY(#REF!)
Name Municipalité: #REF!
Name REQUEST_DATE: #REF!
Name REQUESTER: #REF!
Name Type: #REF!
Name Universite: #REF!
Name Université: #REF!

Sheet Guide de l'utilisateur
C2: Guide de l'utilisateur Formulaire de déclaration des dépenses réelles engagées pour les services de collecte et de transport des matières recyclables effectués en régie interne Mise à jour: 2 mai 2025
C9: ="Version : "&Liste!$D$9 -> Version : 2025V2
C11: Table des matières
D13: 1. Introduction
D15: 2. Remboursement pour les services effectués en régie interne | AD15: ?
D17: 3. Étapes pour compléter le formulaire de déclaration
C19: 1. Introduction
D20: Le présent guide permet d’accompagner les organismes signataires (OS), qui effectuent la collecte et le transport des matières recyclables en régie interne, dans leur déclaration de renseignements trimestriels à Éco Entreprises Québec (ÉEQ). Le guide indique aux OS comment remplir la déclaration, les dépenses admissibles et non admissibles au remboursement versé par ÉEQ ainsi que les modalités d'ajustement.
D25: Les informations demandées dans le formulaire portent notamment sur :
F26: - Les informations générales de l’OS;
F27: - Le montant des dépenses admissibles pour la collecte et le transport effectués en régie interne.
C29: 2. Remboursement pour les services effectués en régie interne
D30: 2.1. Conditions générales
E31: Le remboursement est versé uniquement aux OS qui effectuent les services de collecte et transport des matières recyclables en régie interne. Les activités suivantes (Types de services rendus) sont incluses dans ces services :
G33: - Collecte et transport des matières recyclables en porte-à-porte;
G34: - Collecte et transport des matières recyclables dans les lieux publics extérieurs;
G35: - Transbordement;
G36: - Transport post-transbordement;
G37: - Collecte et transport des matières recyclables récupérées dans les écocentres.
E39: L'OS doit compléter le formulaire pour chaque Type de service rendu.
E41: Un formulaire devrait être complété pour chacun des organismes municipaux effectuant les services de collecte et transport en régie interne dans le cas où: - L'OS et des organismes municipaux du territoire d'application effectuent ces services; - Uniquement des organismes municipaux du territoire d'application effectuent ces services. Il est de la responsabilité de l'OS de l'entente de déclarer l'ensemble de ces montants dans la Plateforme de gestion contractuelle, et c'est l'OS qui recevra les sommes remboursées par ÉEQ et qui devra les redistribuer aux municipalités concernées, le cas échéant.
E49: Tous ces formulaires complétés doivent être joints à la déclaration de l’OS dans la Plateforme de gestion contractuelle.
D51: 2.2 Année de référence et ajustement
E52: Les données financières les plus récentes disponibles (états financiers audités) sont utilisées pour calculer le montant provisoire du remboursement de l’année en cours. Ce montant provisoire est divisé en quatre versements trimestriels égaux.
E56: Pour le 1er trimestre de l'année en cours:
F57: - | G57: L'OS complète le formulaire sur la base de ses dépenses annuelles réelles pour l'année de référence correspondant à l'année de ses états financiers les plus récents disponibles.
H59: Par exemple, au moment de faire sa déclaration pour le 1er trimestre de 2025, l'OS doit se baser sur les états financiers audités de l'année 2023 ou de l'année 2024 selon la disponibilité de ceux-ci.
F61: - | G61: L'OS déclare sur la Plateforme le montant du remboursement trimestriel calculé au moyen du formulaire (25% du montant annuel provisoire).
E64: Pour le 2e et le 3e trimestre de l'année en cours:
F65: - | G65: L'OS déclare sur la Plateforme le montant du remboursement trimestriel calculé au moyen du formulaire (25% du montant annuel provisoire), soit le même montant que celui déclaré au 1er trimestre.
E68: Pour le 4e trimestre de l'année en cours:
F69: - | G69: L'OS complète à nouveau le formulaire sur la base de ses dépenses annuelles réelles pour l'année de référence correspondant à l'année de ses états financiers les plus récents disponibles.
H71: Par exemple, au moment de faire sa déclaration pour le 4e trimestre de 2025, l'OS doit se baser sur les états financiers audités de l'année 2024 ou de l'année 2025 selon la disponibilité de ceux-ci.
F73: - | G73: L'OS déclare sur la Plateforme le montant calculé au moyen du formulaire et qui correspond à la somme de:
H74: 25% du montant annuel provisoire (même montant que trimestres 1, 2 et 3)
G75: +
H76: La différence entre les dépenses réelles de l'année de référence considérée au 1er trimestre et les dépenses réelles de l'année de référence considérée au 4e trimestre
E79: Ainsi, le versement fait par ÉEQ pour le 4e trimestre de l'année en cours intègre un ajustement de fin d’année qui permet de corriger le montant annuel du remboursement.
E82: Si les services en régie interne n’étaient pas offerts sur l’ensemble de l'une des années de référence, veuillez nous contacter par l'entremise d'une requête dans la Plateforme de gestion contractuelle, afin que nous puissions statuer sur le coût à indiquer dans le formulaire.
D86: 2.3 Méthodes comptables
...

Sheet 1. Identitié du requérant
C2: 1. Renseignements sur la déclaration
C8: ="Version : "&Liste!$D$9 -> Version : 2025V2
C10: Veuillez saisir les renseignements relatifs à l'organisation requérante ainsi que l'année pour laquelle un remboursement est demandé.
C12: Charte de couleurs
C13: - Les cellules à compléter (saisies manuelles) sont indiquées en vert.
C14: - Les cellules calculées automatiquement apparaissent en gris.
C15: - Les cellules en jaune doivent être lues avec une attention particulière.
C16: ? Cliquer sur la cellule pour obtenir des informations supplémentaires.
D18: 1.1 Organisme signataire
D19: Code de l'entente | AB19: Nom de l'organisme signataire
D24: Si l'OS effectue la déclaration pour plusieurs organismes municipaux, il faut compléter un formulaire par organisme municipal. Si cette situation ne vous concerne pas, vous pouvez ignorer la section 1.2.
D26: 1.2 Municipalité
D27: Nom de la municipalité | AD27: Code géographique
D32: 1.3 Année visée par la déclaration
D33: Année pour laquelle un remboursement est demandé
E35: 2025
D38: 1.4 Année de référence (en fonction des données financières les plus récentes disponibles)
E40: ="Est-ce que les états financiers audités de l'année "&E35&" seront disponibles avant le 15 février "&E35+1&"?" -> Est-ce que les états financiers audités de l'année 2025 seront disponibles avant le 15 février 2026? | AV40: Non
E42: Année de référence T1, T2, T3 (États financiers audités de l'année) | AV42: {=E35-_xlfn.SWITCH(AV40,"Oui",1,2)} -> 2023
E44: Année de référence T4 (États financiers audités de l'année) | AV44: {=E35-_xlfn.SWITCH(AV40,"oui",0,1)} -> 2024

Sheet 2. Remboursement T1, T2, T3
C2: 2. Type de service effectué en régie interne
C8: ="Version : "&Liste!$D$9 -> Version : 2025V2
C10: Veuillez prendre connaissance des conditions d'admissibilité des dépenses déclarées dans le guide de l'utilisateur avant de remplir la présente section. Il demeure de l'entière responsabilité de l'OS de ne déclarer que les dépenses admissibles au remboursement.
C14: Charte de couleurs
C15: - Les cellules à compléter (saisies manuelles) sont indiquées en vert.
C16: - Les cellules calculées automatiquement apparaissent en gris.
C17: - Les cellules en jaune doivent être lues avec une attention particulière.
C18: ? Cliquer sur la cellule pour obtenir des informations supplémentaires.
C20: 2.1 Type de service effectué en régie interne
C21: Services : | H21: ?
D23: ="Veuillez cocher les cases de gauche qui s’appliquent aux services effectués en régie interne. Si le service a débuté après le 1er janvier "&'1. Identitié du requérant'!AV42&", cochez la case de droite." -> Veuillez cocher les cases de gauche qui s’appliquent aux services effectués en régie interne. Si le service a débuté après le 1er janvier 2023, cochez la case de droite.
D26: Postes de dépenses admissibles :
E27: Veuillez vous référer à la section 2 « Remboursement pour les services effectués en régie interne » du guide de l'utilisateur pour remplir cette section.
E30: ="Veuillez déclarer 100% des dépenses réelles de "&'1. Identitié du requérant'!AV42&" pour les services de collecte et de transport effectués en régie interne correspondant au type de service rendu." -> Veuillez déclarer 100% des dépenses réelles de 2023 pour les services de collecte et de transport effectués en régie interne correspondant au type de service rendu.
AQ31: ="Service en régie débuté après le 1er janvier "&'1. Identitié du requérant'!AV42 -> Service en régie débuté après le 1er janvier 2023
D33: Sélectionner les services offerts:
E35: ? | F35: Collecte et transport des matières recyclables en porte-à-porte
G36: Rémunération et charges sociales
G37: Frais de fonctionnement
G38: Frais de location
G39: Amortissement annuel des immobilisations
G40: Frais de financement des immobilisations
G41: Part de la TVQ non remboursée par le gouvernement provincial
G43: ="Total des dépenses réelles de "&'1. Identitié du requérant'!AV42&" pour les services de collecte et transport des matières recyclables en porte-à-porte" -> Total des dépenses réelles de 2023 pour les services de collecte et transport des matières recyclables en porte-à-porte
AI45: =SUM(AI36:AQ41) -> 0
AI46: (A)
E47: ? | F47: Collecte et transport des matières recyclables dans les lieux publics extérieurs
G48: Rémunération et charges sociales
G49: Frais de fonctionnement
G50: Frais de location
G51: Amortissement annuel des immobilisations
G52: Frais de financement des immobilisations
G53: Part de la TVQ non remboursée par le gouvernement provincial
G55: ="Total des dépenses réelles de "&'1. Identitié du requérant'!AV42&" pour les services de collecte et transport des matières recyclables dans les lieux publics extérieurs" -> Total des dépenses réelles de 2023 pour les services de collecte et transport des matières recyclables dans les lieux publics extérieurs
AI57: =SUM(AI48:AQ53) -> 0
AI58: (B)
E59: ? | F59: Transbordement
G60: Rémunération et charges sociales
G61: Frais de fonctionnement
G62: Frais de location
...

Sheet 3. Remboursement T4
C2: 3. Type de service effectué en régie interne
C8: ="Version : "&Liste!$D$9 -> Version : 2025V2
C10: Veuillez prendre connaissance des conditions d'admissibilité des dépenses déclarées dans le guide d'utilisateur avant de remplir la présente section. Il demeure de l'entière responsabilité de l'OS de ne déclarer que les dépenses admissibles au remboursement.
C14: Charte de couleurs
C15: - Les cellules à compléter (saisies manuelles) sont indiquées en vert.
C16: - Les cellules calculées automatiquement apparaissent en gris.
C17: - Les cellules en jaune doivent être lues avec une attention particulière.
C18: ? Cliquer sur la cellule pour obtenir des informations supplémentaires.
C20: 3.1 Type de service rendu en régie interne
C21: Services : | H21: ?
D23: ="Veuillez cocher les cases de gauche qui s’appliquent aux services effectués en régie interne. Si le service a débuté après le 1er janvier "&'1. Identitié du requérant'!AV44&", cochez la case de droite." -> Veuillez cocher les cases de gauche qui s’appliquent aux services effectués en régie interne. Si le service a débuté après le 1er janvier 2024, cochez la case de droite.
D26: Postes de dépenses admissibles :
E27: Veuillez vous référer à la section 2 « Remboursement pour les services effectués en régie interne » du guide de l'utilisateur pour remplir cette section.
E30: ="Veuillez déclarer 100% des dépenses réelles de "&'1. Identitié du requérant'!AV44&" pour les services de collecte et de transport en régie interne correspondant au type de service rendu." -> Veuillez déclarer 100% des dépenses réelles de 2024 pour les services de collecte et de transport en régie interne correspondant au type de service rendu.
AQ31: ="Service en régie débuté après le 1er janvier "&'1. Identitié du requérant'!AV44 -> Service en régie débuté après le 1er janvier 2024
D33: Sélectionner les services offerts:
E35: ? | F35: Collecte et transport des matières recyclables en porte-à-porte
G36: Rémunération et charges sociales
G37: Frais de fonctionnement
G38: Frais de location
G39: Amortissement annuel des immobilisations
G40: Frais de financement des immobilisations
G41: Part de la TVQ non remboursée par le gouvernement provincial
G43: ="Total des dépenses réelles de "&'1. Identitié du requérant'!AV44&" pour les services de collecte et transport des matières recyclables en porte-à-porte" -> Total des dépenses réelles de 2024 pour les services de collecte et transport des matières recyclables en porte-à-porte
AI44: =SUM(AI36:AQ41) -> 0
AI45: (H)
E46: ? | F46: Collecte et transport des matières recyclables dans les lieux publics extérieurs
G47: Rémunération et charges sociales
G48: Frais de fonctionnement
G49: Frais de location
G50: Amortissement annuel des immobilisations
G51: Frais de financement des immobilisations
G52: Part de la TVQ non remboursée par le gouvernement provincial
G54: ="Total des dépenses réelles de "&'1. Identitié du requérant'!AV44&" pour les services de collecte et transport des matières recyclables dans les lieux publics extérieurs" -> Total des dépenses réelles de 2024 pour les services de collecte et transport des matières recyclables dans les lieux publics extérieurs
AI56: =SUM(AI47:AQ52) -> 0
AI57: (I)
E58: ? | F58: Transbordement
G59: Rémunération et charges sociales
G60: Frais de fonctionnement
G61: Frais de location
...

Sheet Liste
A1: ÉEQ
A7: Liste des trimestres | D7: Version | F7: Organisme | I7: Cocher
A8: Trimestre | B8: Période | D8: Version | F8: Nom_Organisme | G8: Code_Entente | I8: Cocher | K8: O_N
A9: 1 | B9: 1er janvier au 31 mars | D9: 2025V2 | F9: Abercorn | G9: EEQOM-46005-F1 | I9: X | K9: Oui
A10: 2 | B10: 1er avril au 30 juin | F10: Administration régionale Kativik (ARK) | G10: EEQOM-NR992-163 | K10: Non
A11: 3 | B11: 1er juillet au 30 septembre | F11: Agglomération de La Tuque | G11: EEQOM-AG900-57
A12: 4 | B12: 1er janvier au 31 décembre | F12: Agglomération de La Tuque | G12: EEQOM-AG900-F1
F13: Akwesasne | G13: EEQOM-69802-174
F14: Alleyn-et-Cawood | G14: EEQOM-84050-F1
F15: Aumond | G15: EEQOM-83090-425
F16: Baie-des-Sables | G16: EEQOM-08080-F1
F17: Bedford | G17: EEQOM-46035-F1
F18: Blue Sea | G18: EEQOM-83045-426
F19: Bolton-Ouest | G19: EEQOM-46065-F1
F20: Bouchette | G20: EEQOM-83050-F1
F21: Brigham | G21: EEQOM-46090-F1
F22: Bristol | G22: EEQOM-84005-F1
F23: Brome | G23: EEQOM-46070-F1
F24: Bromont | G24: EEQOM-46078-F1
... F333: Winneway/Long Point | G333: EEQOM-85804-182

Sheet Table
A1: Éco Entreprises Québec
A2: Tableau pour analyse des données
A4: Identité du requequérant (T_Déclaration_CTRI_Hdr)
A5: Nom_OS | B5: Code_Entente | C5: Nom_OM | D5: Code_OM | E5: Annee | F5: Version | G5: Q_Key | H5: Commentaire | I5: Q_Period_Ref | J5: PR_T123 | K5: PR_T4
A6: ='1. Identitié du requérant'!AC21 -> 0 | B6: ='1. Identitié du requérant'!E21 -> 0 | C6: ='1. Identitié du requérant'!E29 -> 0 | D6: ='1. Identitié du requérant'!AE29 -> 0 | E6: ='1. Identitié du requérant'!E35 -> 2025 | F6: {=T_Version[Version]} -> 2025V2 | G6: =E6&"|"&B6&"|"&D6&"|CTRI" -> 2025|0|0|CTRI | H6: ='2. Remboursement T1, T2, T3'!D149 -> 0 | I6: ='1. Identitié du requérant'!AV40 -> Non | J6: ='1. Identitié du requérant'!AV42 -> 2023 | K6: ='1. Identitié du requérant'!AV44 -> 2024
A8: Demande de remboursement (T_Déclaration_CTRI_Dtl)
A9: Q_Key | B9: Section | C9: Categorie | D9: Reponse | E9: Debut_2024_Ou_Apres | F9: Trim | G9: DESC_Depense | H9: Qty | I9: Montant
A10: {=T_Déclaration_CTRI_Hdr[Q_Key]} -> 2025|0|0|CTRI | B10: Services | C10: Collecte et transport des matières recyclables en porte-à-porte | D10: ='3. Remboursement T4'!$D$35 -> 0 | E10: ='3. Remboursement T4'!$AU$35 -> 0 | F10: 4 | G10: Rémunération et charges sociales | I10: ='3. Remboursement T4'!$AI$36 -> 0
A11: {=T_Déclaration_CTRI_Hdr[Q_Key]} -> 2025|0|0|CTRI | B11: Services | C11: Collecte et transport des matières recyclables en porte-à-porte | D11: ='3. Remboursement T4'!$D$35 -> 0 | E11: ='3. Remboursement T4'!$AU$35 -> 0 | F11: 4 | G11: Frais de fonctionnement | I11: ='3. Remboursement T4'!$AI$37 -> 0
A12: {=T_Déclaration_CTRI_Hdr[Q_Key]} -> 2025|0|0|CTRI | B12: Services | C12: Collecte et transport des matières recyclables en porte-à-porte | D12: ='3. Remboursement T4'!$D$35 -> 0 | E12: ='3. Remboursement T4'!$AU$35 -> 0 | F12: 4 | G12: Frais de location | I12: ='3. Remboursement T4'!$AI$38 -> 0
A13: {=T_Déclaration_CTRI_Hdr[Q_Key]} -> 2025|0|0|CTRI | B13: Services | C13: Collecte et transport des matières recyclables en porte-à-porte | D13: ='3. Remboursement T4'!$D$35 -> 0 | E13: ='3. Remboursement T4'!$AU$35 -> 0 | F13: 4 | G13: Amortissement annuel des immobilisations | I13: ='3. Remboursement T4'!$AI$39 -> 0
A14: {=T_Déclaration_CTRI_Hdr[Q_Key]} -> 2025|0|0|CTRI | B14: Services | C14: Collecte et transport des matières recyclables en porte-à-porte | D14: ='3. Remboursement T4'!$D$35 -> 0 | E14: ='3. Remboursement T4'!$AU$35 -> 0 | F14: 4 | G14: Frais de financement des immobilisations | I14: ='3. Remboursement T4'!AI40 -> 0
A15: {=T_Déclaration_CTRI_Hdr[Q_Key]} -> 2025|0|0|CTRI | B15: Services | C15: Collecte et transport des matières recyclables en porte-à-porte | D15: ='3. Remboursement T4'!$D$35 -> 0 | E15: ='3. Remboursement T4'!$AU$35 -> 0 | F15: 4 | G15: Part de la TVQ non remboursée par le gouvernement provincial | I15: ='3. Remboursement T4'!$AI$41 -> 0
A16: {=T_Déclaration_CTRI_Hdr[Q_Key]} -> 2025|0|0|CTRI | B16: Services | C16: Collecte et transport des matières recyclables dans les lieux publics extérieurs | D16: ='3. Remboursement T4'!$D$46 -> 0 | E16: ='3. Remboursement T4'!$AU$46 -> 0 | F16: 4 | G16: Rémunération et charges sociales | I16: ='3. Remboursement T4'!$AI$47 -> 0
A17: {=T_Déclaration_CTRI_Hdr[Q_Key]} -> 2025|0|0|CTRI | B17: Services | C17: Collecte et transport des matières recyclables dans les lieux publics extérieurs | D17: ='3. Remboursement T4'!$D$46 -> 0 | E17: ='3. Remboursement T4'!$AU$46 -> 0 | F17: 4 | G17: Frais de fonctionnement | I17: ='3. Remboursement T4'!$AI$48 -> 0
A18: {=T_Déclaration_CTRI_Hdr[Q_Key]} -> 2025|0|0|CTRI | B18: Services | C18: Collecte et transport des matières recyclables dans les lieux publics extérieurs | D18: ='3. Remboursement T4'!$D$46 -> 0 | E18: ='3. Remboursement T4'!$AU$46 -> 0 | F18: 4 | G18: Frais de location | I18: ='3. Remboursement T4'!$AI$49 -> 0
A19: {=T_Déclaration_CTRI_Hdr[Q_Key]} -> 2025|0|0|CTRI | B19: Services | C19: Collecte et transport des matières recyclables dans les lieux publics extérieurs | D19: ='3. Remboursement T4'!$D$46 -> 0 | E19: ='3. Remboursement T4'!$AU$46 -> 0 | F19: 4 | G19: Amortissement annuel des immobilisations | I19: ='3. Remboursement T4'!$AI$50 -> 0
A20: {=T_Déclaration_CTRI_Hdr[Q_Key]} -> 2025|0|0|CTRI | B20: Services | C20: Collecte et transport des matières recyclables dans les lieux publics extérieurs | D20: ='3. Remboursement T4'!$D$46 -> 0 | E20: ='3. Remboursement T4'!$AU$46 -> 0 | F20: 4 | G20: Frais de financement des immobilisations | I20: ='3. Remboursement T4'!$AI$51 -> 0
A21: {=T_Déclaration_CTRI_Hdr[Q_Key]} -> 2025|0|0|CTRI | B21: Services | C21: Collecte et transport des matières recyclables dans les lieux publics extérieurs | D21: ='3. Remboursement T4'!$D$46 -> 0 | E21: ='3. Remboursement T4'!$AU$46 -> 0 | F21: 4 | G21: Part de la TVQ non remboursée par le gouvernement provincial | I21: ='3. Remboursement T4'!$AI$52 -> 0
A22: {=T_Déclaration_CTRI_Hdr[Q_Key]} -> 2025|0|0|CTRI | B22: Services | C22: Transbordement | D22: ='3. Remboursement T4'!$D$58 -> 0 | E22: ='3. Remboursement T4'!$AU$58 -> 0 | F22: 4 | G22: Rémunération et charges sociales | I22: ='3. Remboursement T4'!$AI$59 -> 0
A23: {=T_Déclaration_CTRI_Hdr[Q_Key]} -> 2025|0|0|CTRI | B23: Services | C23: Transbordement | D23: ='3. Remboursement T4'!$D$58 -> 0 | E23: ='3. Remboursement T4'!$AU$58 -> 0 | F23: 4 | G23: Frais de fonctionnement | I23: ='3. Remboursement T4'!$AI$60 -> 0
A24: {=T_Déclaration_CTRI_Hdr[Q_Key]} -> 2025|0|0|CTRI | B24: Services | C24: Transbordement | D24: ='3. Remboursement T4'!$D$58 -> 0 | E24: ='3. Remboursement T4'!$AU$58 -> 0 | F24: 4 | G24: Frais de location | I24: ='3. Remboursement T4'!$AI$61 -> 0
A25: {=T_Déclaration_CTRI_Hdr[Q_Key]} -> 2025|0|0|CTRI | B25: Services | C25: Transbordement | D25: ='3. Remboursement T4'!$D$58 -> 0 | E25: ='3. Remboursement T4'!$AU$58 -> 0 | F25: 4 | G25: Amortissement annuel des immobilisations | I25: ='3. Remboursement T4'!$AI$62 -> 0
A26: {=T_Déclaration_CTRI_Hdr[Q_Key]} -> 2025|0|0|CTRI | B26: Services | C26: Transbordement | D26: ='3. Remboursement T4'!$D$58 -> 0 | E26: ='3. Remboursement T4'!$AU$58 -> 0 | F26: 4 | G26: Frais de financement des immobilisations | I26: ='3. Remboursement T4'!$AI$63 -> 0
A27: {=T_Déclaration_CTRI_Hdr[Q_Key]} -> 2025|0|0|CTRI | B27: Services | C27: Transbordement | D27: ='3. Remboursement T4'!$D$58 -> 0 | E27: ='3. Remboursement T4'!$AU$58 -> 0 | F27: 4 | G27: Part de la TVQ non remboursée par le gouvernement provincial | I27: ='3. Remboursement T4'!$AI$64 -> 0
A28: {=T_Déclaration_CTRI_Hdr[Q_Key]} -> 2025|0|0|CTRI | B28: Services | C28: Transport post transbordement | D28: ='3. Remboursement T4'!$D$69 -> 0 | E28: ='3. Remboursement T4'!$AU$69 -> 0 | F28: 4 | G28: Rémunération et charges sociales | I28: ='3. Remboursement T4'!$AI$70 -> 0
A29: {=T_Déclaration_CTRI_Hdr[Q_Key]} -> 2025|0|0|CTRI | B29: Services | C29: Transport post transbordement | D29: ='3. Remboursement T4'!$D$69 -> 0 | E29: ='3. Remboursement T4'!$AU$69 -> 0 | F29: 4 | G29: Frais de fonctionnement | I29: ='3. Remboursement T4'!$AI$71 -> 0
A30: {=T_Déclaration_CTRI_Hdr[Q_Key]} -> 2025|0|0|CTRI | B30: Services | C30: Transport post transbordement | D30: ='3. Remboursement T4'!$D$69 -> 0 | E30: ='3. Remboursement T4'!$AU$69 -> 0 | F30: 4 | G30: Frais de location | I30: ='3. Remboursement T4'!$AI$72 -> 0
A31: {=T_Déclaration_CTRI_Hdr[Q_Key]} -> 2025|0|0|CTRI | B31: Services | C31: Transport post transbordement | D31: ='3. Remboursement T4'!$D$69 -> 0 | E31: ='3. Remboursement T4'!$AU$69 -> 0 | F31: 4 | G31: Amortissement annuel des immobilisations | I31: ='3. Remboursement T4'!$AI$73 -> 0
A32: {=T_Déclaration_CTRI_Hdr[Q_Key]} -> 2025|0|0|CTRI | B32: Services | C32: Transport post transbordement | D32: ='3. Remboursement T4'!$D$69 -> 0 | E32: ='3. Remboursement T4'!$AU$69 -> 0 | F32: 4 | G32: Frais de financement des immobilisations | I32: ='3. Remboursement T4'!$AI$74 -> 0
A33: {=T_Déclaration_CTRI_Hdr[Q_Key]} -> 2025|0|0|CTRI | B33: Services | C33: Transport post transbordement | D33: ='3. Remboursement T4'!$D$69 -> 0 | E33: ='3. Remboursement T4'!$AU$69 -> 0 | F33: 4 | G33: Part de la TVQ non remboursée par le gouvernement provincial | I33: ='3. Remboursement T4'!$AI$75 -> 0
A34: {=T_Déclaration_CTRI_Hdr[Q_Key]} -> 2025|0|0|CTRI | B34: Services | C34: Collecte et transport des matières recyclables récupérées dans les écocentres (contenants aérosols vides, contenants ou emballages de protection en polystyrène expansé, carton ondulé, contenents en verre, matières pêle-mêle) | D34: ='3. Remboursement T4'!$D$80 -> 0 | E34: ='3. Remboursement T4'!$AU$80 -> 0 | F34: 4 | G34: Rémunération et charges sociales | I34: ='3. Remboursement T4'!$AI$83 -> 0
A35: {=T_Déclaration_CTRI_Hdr[Q_Key]} -> 2025|0|0|CTRI | B35: Services | C35: Collecte et transport des matières recyclables récupérées dans les écocentres (contenants aérosols vides, contenants ou emballages de protection en polystyrène expansé, carton ondulé, contenents en verre, matières pêle-mêle) | D35: ='3. Remboursement T4'!$D$80 -> 0 | E35: ='3. Remboursement T4'!$AU$80 -> 0 | F35: 4 | G35: Frais de fonctionnement | I35: ='3. Remboursement T4'!$AI$84 -> 0
A36: {=T_Déclaration_CTRI_Hdr[Q_Key]} -> 2025|0|0|CTRI | B36: Services | C36: Collecte et transport des matières recyclables récupérées dans les écocentres (contenants aérosols vides, contenants ou emballages de protection en polystyrène expansé, carton ondulé, contenents en verre, matières pêle-mêle) | D36: ='3. Remboursement T4'!$D$80 -> 0 | E36: ='3. Remboursement T4'!$AU$80 -> 0 | F36: 4 | G36: Frais de location | I36: ='3. Remboursement T4'!$AI$85 -> 0
A37: {=T_Déclaration_CTRI_Hdr[Q_Key]} -> 2025|0|0|CTRI | B37: Services | C37: Collecte et transport des matières recyclables récupérées dans les écocentres (contenants aérosols vides, contenants ou emballages de protection en polystyrène expansé, carton ondulé, contenents en verre, matières pêle-mêle) | D37: ='3. Remboursement T4'!$D$80 -> 0 | E37: ='3. Remboursement T4'!$AU$80 -> 0 | F37: 4 | G37: Amortissement annuel des immobilisations | I37: ='3. Remboursement T4'!$AI$86 -> 0
A38: {=T_Déclaration_CTRI_Hdr[Q_Key]} -> 2025|0|0|CTRI | B38: Services | C38: Collecte et transport des matières recyclables récupérées dans les écocentres (contenants aérosols vides, contenants ou emballages de protection en polystyrène expansé, carton ondulé, contenents en verre, matières pêle-mêle) | D38: ='3. Remboursement T4'!$D$80 -> 0 | E38: ='3. Remboursement T4'!$AU$80 -> 0 | F38: 4 | G38: Frais de financement des immobilisations | I38: ='3. Remboursement T4'!$AI$87 -> 0
A39: {=T_Déclaration_CTRI_Hdr[Q_Key]} -> 2025|0|0|CTRI | B39: Services | C39: Collecte et transport des matières recyclables récupérées dans les écocentres (contenants aérosols vides, contenants ou emballages de protection en polystyrène expansé, carton ondulé, contenents en verre, matières pêle-mêle) | D39: ='3. Remboursement T4'!$D$80 -> 0 | E39: ='3. Remboursement T4'!$AU$80 -> 0 | F39: 4 | G39: Part de la TVQ non remboursée par le gouvernement provincial | I39: ='3. Remboursement T4'!$AI$88 -> 0
A40: {=T_Déclaration_CTRI_Hdr[Q_Key]} -> 2025|0|0|CTRI | B40: Unités d'occupation | C40: Maisons unifamiliales | D40: ='3. Remboursement T4'!$D$100 -> 0 | F40: 4 | H40: ='3. Remboursement T4'!$AR$100 -> 0
A41: {=T_Déclaration_CTRI_Hdr[Q_Key]} -> 2025|0|0|CTRI | B41: Unités d'occupation | C41: Résidences secondaires | D41: ='3. Remboursement T4'!$D$102 -> 0 | F41: 4 | H41: ='3. Remboursement T4'!$AR$102 -> 0
A42: {=T_Déclaration_CTRI_Hdr[Q_Key]} -> 2025|0|0|CTRI | B42: Unités d'occupation | C42: Multilogements | D42: ='3. Remboursement T4'!$D$104 -> 0 | F42: 4 | H42: ='3. Remboursement T4'!$AR$104 -> 0
...
